Workbook

Sheet 発表情報
B1: 【設備管理全国大会】発表エントリー様式 | F1: 提出方法：ファイル名を貴社名にして、EVENT@jipm.or.jpまでメール送付
B3: ご応募期限 | C3: 45968 | D3: ※発表エントリーが想定を上回った場合、ご応募期日前に締め切らせていただく場合がございます ※発表のご意向があり、発表エントリー様式のご提出にお時間を要する場合は、事務局までご一報ください
B4: 新規提出日 | D4: ※発表エントリー様式ご提出以降に、ご発表情報を変更したい場合は、更新日を入力のうえ再提出してください ※更新日によっては、フライヤーなどの反映に間に合わない場合がございますので、ご了承ください
B5: 更新日
E7: =IF(COUNTIF(F8:F49,"*←*")=0,"全項目について、入力OKです♪ご入力お疲れ様でした","すべての項目について、もれなくご入力ください") -> すべての項目について、もれなくご入力ください
B8: ★発表に関するお願い | F8: コメント
B9: ★ | C9: ご発表のご案内に記載の内容にご承諾したうえ、発表を申し込みます | D9: 選択式 | F9: =IF(LEN(E9)=0,"←入力してください",IF(E9="はい","以下の項目をご入力ください","「はい」以外の場合お申込みできません")) -> ←入力してください
B11: A.窓口ご担当者様情報 | F11: コメント
B12: A-1 | C12: 会社名をご入力ください | D12: 入力式 | F12: =IF(LEN(E12)=0,"←入力してください",LEN(E12)&"文字") -> ←入力してください
B13: A-2 | C13: 会社名（フリガナ）をご入力ください | D13: 入力式 | F13: =IF(LEN(E13)=0,"←入力してください",LEN(E13)&"文字") -> ←入力してください
B14: A-3 | C14: 事業場名をご入力ください | D14: 入力式 | F14: =IF(LEN(E14)=0,"←入力してください",LEN(E14)&"文字") -> ←入力してください
B15: A-4 | C15: 事業場名（フリガナ）をご入力ください | D15: 入力式 | F15: =IF(LEN(E15)=0,"←入力してください",LEN(E15)&"文字") -> ←入力してください
B16: A-5 | C16: 所属をご入力ください | D16: 入力式 | F16: =IF(LEN(E16)=0,"←入力してください",LEN(E16)&"文字") -> ←入力してください
B17: A-6 | C17: 所属（フリガナ）をご入力ください | D17: 入力式 | F17: =IF(LEN(E17)=0,"←入力してください",LEN(E17)&"文字") -> ←入力してください
B18: A-7 | C18: 役職をご入力ください ※役職がない方は、"一般"とご入力ください。 | D18: 入力式 | F18: =IF(LEN(E18)=0,"←入力してください",LEN(E18)&"文字") -> ←入力してください
B19: A-8 | C19: 氏名をご入力ください ※姓名の間には、スペースをお入れください。 | D19: 入力式 | F19: =IF(LEN(E19)=0,"←入力してください",LEN(E19)&"文字") -> ←入力してください
B20: A-9 | C20: 氏名（フリガナ）をご入力ください ※姓名の間には、スペースをお入れください。 | D20: 入力式 | F20: =IF(LEN(E20)=0,"←入力してください",LEN(E20)&"文字") -> ←入力してください
B21: A-10 | C21: メールアドレスをご入力ください | D21: 入力式 | F21: =IF(LEN(E21)=0,"←入力してください",IF(AND(IFERROR(FIND(".",E21),FALSE),IFERROR(FIND(".",E21,FIND("@",E21)),FALSE))=FALSE,"←正しく入力してください",IF(E21=E22,"","←2つのアドレスが一致しません"))) -> ←入力してください
B22: A-11 | C22: もう一度、上記のメールアドレスをご入力ください | D22: 入力式 | F22: =IF(LEN(E22)=0,"←入力してください",IF(AND(IFERROR(FIND(".",E22),FALSE),IFERROR(FIND(".",E22,FIND("@",E22)),FALSE))=FALSE,"←正しく入力してください",IF(E22=E21,"","←2つのアドレスが一致しません"))) -> ←入力してください
B23: A-12 | C23: 電話番号をご入力ください ※ハイフンをいれて入力ください | D23: 入力式 | F23: =IF(LEN(E23)=0,"←入力してください",LEN(E23)) -> ←入力してください
B25: B.発表情報 | F25: コメント | H25: キーワード
B26: B-1 | C26: 発表タイトルをご入力ください ※フライヤーなどに掲載します | D26: 入力式 | F26: =IF(LEN(E26)=0,"←入力してください",LEN(E26)) -> ←入力してください | H26: 品質安定化・向上
B27: B-2 | C27: 発表タイトル（フリガナ）をご入力ください | D27: 入力式 | F27: =IF(LEN(E27)=0,"←入力してください",LEN(E27)) -> ←入力してください | H27: 作業の効率化・容易化
B28: B-3 | C28: 発表概要をご入力ください（150字程度） ※フライヤーなどに掲載します | D28: 入力式 | F28: =IF(LEN(E28)=0,"←入力してください",LEN(E28)) -> ←入力してください | H28: 設備の管理方法・基準の見直し
B29: B-4 | C29: 発表の分類として近いものを3つご選択ください ※最大３つ、最低１つご選択 ※フライヤーなどに掲載します | D29: 選択式 | F29: =IF(LEN(E29)=0,"←入力してください",IF(COUNTIF(E29:E31,E29)>1,"←入力値が重複しています","")) -> ←入力してください | H29: 設備の信頼性向上
D30: 選択式 | F30: =IF(LEN(E30)=0,"",IF(COUNTIF(E29:E31,E30)>1,"←入力値が重複しています","")) | H30: 改良保全
D31: 選択式 | F31: =IF(LEN(E31)=0,"",IF(COUNTIF(E29:E31,E31)>1,"←入力値が重複しています","")) | H31: デジタル技術を利用した改善
B32: B-5 | C32: 発表内容について、強調したいキーワードを合計40文字以内で記入してください。（40文字以内であれば複数の単語も可） 例）サステナブル、ドローン、画像解析、故障解析、設備管理体制の構築など | D32: 入力式 | F32: =IF(LEN(E32)=0,"←入力してください",LEN(E32)) -> ←入力してください
B33: B-6 | C33: 発表日 ※可能であれば、"両日可"をご選択ください。 ご協力をお願いいたします。 | D33: 選択式 | F33: =IF(LEN(E33)=0,"←選択してください","") -> ←選択してください | H33: 予防保全・予知保全
H34: コストダウン
B35: C.発表者様情報 | F35: コメント | H35: 安全
B36: C-1 | C36: 会社名をご入力ください ※フライヤーなどに掲載します | D36: 入力式 | F36: =IF(LEN(E36)=0,"←入力してください",LEN(E36)) -> ←入力してください | H36: 自主保全
B37: C-2 | C37: 会社名（フリガナ）をご入力ください | D37: 入力式 | F37: =IF(LEN(E37)=0,"←入力してください",LEN(E37)) -> ←入力してください | H37: 人財育成
B38: C-3 | C38: 事業場名をご入力ください ※フライヤーなどに掲載します | D38: 入力式 | F38: =IF(LEN(E38)=0,"←入力してください",LEN(E38)) -> ←入力してください | H38: 改善活動の水平展開
B39: C-4 | C39: 事業場名（フリガナ）をご入力ください | D39: 入力式 | F39: =IF(LEN(E39)=0,"←入力してください",LEN(E39)) -> ←入力してください | H39: 計画保全
B40: C-5 | C40: 所属をご入力ください ※フライヤーなどに掲載します | D40: 入力式 | F40: =IF(LEN(E40)=0,"←入力してください",LEN(E40)) -> ←入力してください | H40: 職場のダイバーシティ
B41: C-6 | C41: 所属（フリガナ）をご入力ください | D41: 入力式 | F41: =IF(LEN(E41)=0,"←入力してください",LEN(E41)) -> ←入力してください | H41: 環境・省エネルギー
B42: C-7 | C42: 役職をご入力ください ※役職がない方は、"一般"とご入力ください ※フライヤーなどに掲載します | D42: 入力式 | F42: =IF(LEN(E42)=0,"←入力してください",LEN(E42)) -> ←入力してください
B43: C-8 | C43: 氏名をご入力ください ※姓名の間には、スペースをお入れください ※フライヤーなどに掲載します | D43: 入力式 | F43: =IF(LEN(E43)=0,"←入力してください",LEN(E43)) -> ←入力してください | H43: 発表日
B44: C-9 | C44: 氏名（フリガナ）をご入力ください ※姓名の間には、スペースをお入れください ※フライヤーなどに掲載します | D44: 入力式 | F44: =IF(LEN(E44)=0,"←入力してください",LEN(E44)) -> ←入力してください | H44: 両日可
B45: C-10 | C45: メールアドレスをご入力ください ※後日、本大会の招待状をご案内します | D45: 入力式 | F45: =IF(LEN(E45)=0,"←入力してください",IF(AND(IFERROR(FIND(".",E45),FALSE),IFERROR(FIND(".",E45,FIND("@",E45)),FALSE))=FALSE,"←正しく入力してください",IF(E45=E46,"","←2つのアドレスが一致しません"))) -> ←入力してください | H45: 46086
B46: C-11 | C46: もう一度、上記のメールアドレスをご入力ください | D46: 入力式 | F46: =IF(LEN(E46)=0,"←入力してください",IF(AND(IFERROR(FIND(".",E46),FALSE),IFERROR(FIND(".",E46,FIND("@",E46)),FALSE))=FALSE,"←正しく入力してください",IF(E46=E45,"","←2つのアドレスが一致しません"))) -> ←入力してください | H46: 46087
B47: C-12 | C47: 電話番号（当日の連絡先）をご入力ください | D47: 入力式 | F47: =IF(LEN(E47)=0,"←入力してください",LEN(E47)) -> ←入力してください
B48: C-13 | C48: 発表者の職務として近いものをご選択ください | D48: 選択式 | F48: =IF(LEN(E48)=0,"←選択してください","") -> ←選択してください | H48: 来場時間
B49: C-14 | C49: 顔写真をご提供ください ※フライヤーなどに掲載します ※フライヤー、公式サイト、発表当日に配布するテキストなどに掲載のため、解像度が高いお写真のご提供をお願いいたします ※別ファイルでのご提供でも問題ございません | E49: 顔写真貼付 | F49: メニュー「挿入」→「画像」→画像の挿入元を選択して貼り付けてください。 もしくは、コピーした画像を貼り付けてください。 | H49: 朝の集合時間
H50: 昼食時間前
B51: D.発表当日向け情報（こちらの情報は、2月上旬に改めてご連絡します）
B52: D-1 | C52: 発表日の来場時間をお知らせください ※発表時間が午前の方 ：必ず朝の集合時間にお越しください ※発表時間が午後の方 ：必ず昼食時間前までにお越しください ※発表日はご昼食をご用意いたします ※具体的なお時間は、別途ご案内いたします | D52: 選択式 | F52: =IF(LEN(E52)=0,"←入力してください","") -> ←入力してください | H52: PC操作
B53: D-2 | C53: 発表時のPC操作担当をご選択ください | D53: 選択式 | F53: =IF(LEN(E53)=0,"←入力してください","") -> ←入力してください | H53: 発表者
B54: D-3 | C54: 交通費支弁の希望有無をご選択ください | D54: 選択式 | F54: =IF(LEN(E54)=0,"←入力してください","") -> ←入力してください | H54: アシスタント
B55: D-4 | C55: アシスタントの有無をご選択ください ※アシスタントは１名まで ※アシスタントの方にも発表日はご昼食をご用意いたします | D55: 選択式 | F55: =IF(LEN(E55)=0,"←入力してください","") -> ←入力してください
B56: D-5 | C56: アシスタントのメールアドレスをご入力ください ※後日、本大会の招待状をご案内します | D56: 入力式 | F56: =IF(E55="無","",IF(LEN(E56)=0,"←入力してください",IF(AND(IFERROR(FIND(".",E56),FALSE),IFERROR(FIND(".",E56,FIND("@",E56)),FALSE))=FALSE,"←正しく入力してください",IF(E56=E57,"","←2つのアドレスが一致しません")))) -> ←入力してください
B57: D-6 | C57: もう一度、上記のメールアドレスをご入力ください | D57: 入力式 | F57: =IF(E55="無","",IF(LEN(E57)=0,"←入力してください",IF(AND(IFERROR(FIND(".",E57),FALSE),IFERROR(FIND(".",E57,FIND("@",E57)),FALSE))=FALSE,"←正しく入力してください",IF(E57=E56,"","←2つのアドレスが一致しません")))) -> ←入力してください
B58: D-7 | C58: 発表者の発表日以外の来場有無 ※発表者の方は、発表日以外で本大会に来場いただく場合、ご招待させていただきます ※発表日以外のご昼食は、一般参加者と同じ取り扱いとなります | D58: 選択式 | F58: =IF(LEN(E58)=0,"←入力してください","") -> ←入力してください
B59: D-8 | C59: アシスタントの発表日以外の来場有無 ※アシスタントの方は、発表日以外で本大会に来場いただく場合、ご招待させていただきます ※発表日以外のご昼食は、一般参加者と同じ取り扱いとなります | D59: 選択式 | F59: =IF(LEN(E59)=0,"←入力してください","") -> ←入力してください
B61: Z.事務局への連絡事項
B62: Z-1 | C62: 上記項目では不足する連絡事項がございましたらご入力ください | D62: 入力式

Sheet 事務局用
A1: Z-2 | B1: Z-3 | C1: A-1 | D1: A-2 | E1: A-3 | F1: A-4 | G1: A-5 | H1: A-6 | I1: A-7 | J1: A-8 | K1: A-9 | L1: A-10 | M1: A-11 | N1: A-12 | O1: B-1 | P1: B-2 | Q1: B-3 | R1: B-4(１) | S1: B-4(２) | T1: B-4(３) | U1: B-5 | V1: B-6 | W1: C-1 | X1: C-2 | Y1: C-3 | Z1: C-4 | AA1: C-5 | AB1: C-6 | AC1: C-7 | AD1: C-8 | AE1: C-9 | AF1: C-10 | AG1: C-11 | AH1: C-12 | AI1: C-13 | AJ1: C-14 | AK1: D-1 | AL1: D-2 | AM1: D-3 | AN1: D-4 | AO1: D-5 | AP1: D-6 | AQ1: D-7 | AR1: D-8 | AS1: Z-1
A2: 新規提出日 | B2: 更新日 | C2: 窓)会社 | D2: 窓)会社F | E2: 窓)事業場 | F2: 窓)事業場F | G2: 窓)所属 | H2: 窓)所属F | I2: 窓)役職 | J2: 窓)氏名 | K2: 窓)氏名F | L2: 窓)email | M2: － | N2: 窓)TEL | O2: タイトル | P2: タイトルF | Q2: 概要 | R2: 分類1 | S2: 分類2 | T2: 分類3 | U2: キーワード | V2: 発表日 | W2: 発)会社 | X2: 発)会社F | Y2: 発)事業場 | Z2: 発)事業場F | AA2: 発)所属 | AB2: 発)所属F | AC2: 発)役職 | AD2: 発)氏名 | AE2: 発)氏名F | AF2: 発)email | AG2: － | AH2: 発)TEL | AI2: 発)職務 | AJ2: 発)写真 | AK2: 来場時間 | AL2: PC操作 | AM2: 交通費 | AN2: アシ有無 | AO2: アシ)email | AP2: － | AQ2: 発)発日外 | AR2: アシ)発日外 | AS2: 要望
A3: =発表情報!C4 -> 0 | B3: =発表情報!C5 -> 0 | C3: =発表情報!E12 -> 0 | D3: =発表情報!E13 -> 0 | E3: =発表情報!E14 -> 0 | F3: =発表情報!E15 -> 0 | G3: =発表情報!E16 -> 0 | H3: =発表情報!E17 -> 0 | I3: =発表情報!E18 -> 0 | J3: =発表情報!E19 -> 0 | K3: =発表情報!E20 -> 0 | L3: =発表情報!E21 -> 0 | M3: － | N3: =発表情報!E23 -> 0 | O3: =発表情報!E26 -> 0 | P3: =発表情報!E27 -> 0 | Q3: =発表情報!E28 -> 0 | R3: =発表情報!E29 -> 0 | S3: =発表情報!E30 -> 0 | T3: =発表情報!E31 -> 0 | U3: =発表情報!E32 -> 0 | V3: =発表情報!E33 -> 0 | W3: =発表情報!E36 -> 0 | X3: =発表情報!E37 -> 0 | Y3: =発表情報!E38 -> 0 | Z3: =発表情報!E39 -> 0 | AA3: =発表情報!E40 -> 0 | AB3: =発表情報!E41 -> 0 | AC3: =発表情報!E42 -> 0 | AD3: =発表情報!E43 -> 0 | AE3: =発表情報!E44 -> 0 | AF3: =発表情報!E45 -> 0 | AG3: － | AH3: =発表情報!E47 -> 0 | AI3: =発表情報!E48 -> 0 | AJ3: =発表情報!E49 -> 顔写真貼付 | AK3: =発表情報!E52 -> 0 | AL3: =発表情報!E53 -> 0 | AM3: =発表情報!E54 -> 0 | AN3: =発表情報!E55 -> 0 | AO3: =発表情報!E56 -> 0 | AQ3: =発表情報!E58 -> 0 | AR3: =発表情報!E59 -> 0 | AS3: =発表情報!E62 -> 0
A4: 発表DBへは、３行目をコピーし、"値"で貼り付けること
